Workbook

Sheet Свед о вып измер
AN1: Лист №4
A2: МЕЖЕВОЙ ПЛАН
A3: Сведения о выполненных измерениях и расчетах
A4: 1. Метод определения координат характерных точек границ земельных участков и их частей
A5: № п/п | F5: Кадастровый номер или обозначение земельного участка | Y5: Метод определения координат
A6: 1 | F6: 2 | Y6: 3
A7: 1 | F7: =[1]ввод!E77 -> :ЗУ1 | Y7: геодезический метод
A8: 2. Точность положения характерных точек границ земельных участков
A9: № п/п | F9: Кадастровый номер или обозначение земельного участка | X9: Формулы, примененные для расчета средней квадратической погрешности положения характерных точек границ (Мt), м
A10: 1 | F10: 2 | X10: 3
A11: 1 | F11: =[1]ввод!E77 -> :ЗУ1 | X11: =CONCATENATE("Mt"," - ",[1]ввод!E83," Методические рекомендации Московского НИиПИИ земельных ресурсов и землеустройства") -> Mt - 0,5 Методические рекомендации Московского НИиПИИ земельных ресурсов и землеустройства
A12: 3. Точность положения характерных точек границ частей земельных участков
A13: № п/п | F13: Кадастровый номер или обозначение земельного участка | Q13: Учетный номер или обозначение части | AD13: Формулы, примененные для расчета средней квадратической погрешности положения характерных точек границ (Мt), м
A14: 1 | F14: 2 | Q14: 3 | AD14: 4
A15: =IF(Y27="—","—",1) -> — | F15: =IF(A15="—","—",[1]ввод!E77) -> — | Q15: =IF(A15="—","—",CONCATENATE([1]ввод!E77," ","/чзу1")) -> — | AD15: =CONCATENATE("Mt"," - ",[1]ввод!E83," Методические рекомендации Московского НИиПИИ земельных ресурсов и землеустройства") -> Mt - 0,5 Методические рекомендации Московского НИиПИИ земельных ресурсов и землеустройства
A16: =IF(Y28="—","—",2) -> — | F16: =IF(A16="—","—",[1]ввод!E77) -> — | Q16: =IF(A16="—","—",CONCATENATE([1]ввод!E77," ","/чзу2")) -> —
A17: =IF(Y29="—","—",3) -> — | F17: =IF(A17="—","—",[1]ввод!E77) -> — | Q17: =IF(A17="—","—",CONCATENATE([1]ввод!E77," ","/чзу3")) -> —
A18: 4. Точность определения площади земельных участков
A19: № п/п | F19: Кадастровый номер или обозначение земельного участка | R19: Площадь (Р), м2 | AC19: =CONCATENATE("Формулы, примененные для расчета предельно допустимой погрешности определения площади земельного участка (",BF28,"P), м2") -> Формулы, примененные для расчета предельно допустимой погрешности определения площади земельного участка (ΔP), м2
A20: 1 | F20: 2 | R20: 3 | AC20: 4
A21: =IF(R21="—","—",1) -> 1 | F21: =IF(R21="—","—",":ЗУ1") -> :ЗУ1 | R21: 1000 | AC21: =IF(R21="—","—",CONCATENATE(BF28,BF29, "=",2.5,"*",[1]ввод!E83,BH31, "=")) -> ΔP=2,5*0,5√1000= | AQ21: =IF(R21="—","",BH30) -> 39.528471
A22: =IF(R22="—","—",2) -> — | F22: =IF(R22="—","—",":ЗУ2") -> — | R22: — | AC22: =IF(R22="—","—",CONCATENATE(BP28,BP29, "=",2.5,"*",[1]ввод!E83,BR31, "=")) -> — | AQ22: =IF(R22="—","",BR30)
A23: =IF(R23="—","—",3) -> — | F23: =IF(R23="—","—",":ЗУ3") -> — | R23: — | AC23: =IF(R23="—","—",CONCATENATE(CB28,CB29, "=",2.5,"*",[1]ввод!E83,CD31, "=")) -> — | AQ23: =IF(R23="—","",CD30)
A24: 5. Точность определения площади частей земельных участков
A25: № п/п | F25: Кадастровый номер или обозначение земельного участка | P25: Учетный номер или обозначение части | Y25: Площадь (Р), м2 | AI25: =CONCATENATE("Формулы, примененные для расчета предельно допустимой погрешности определения площади части земельного участка (",BF28,"P), м2") -> Формулы, примененные для расчета предельно допустимой погрешности определения площади части земельного участка (ΔP), м2
A26: 1 | F26: 2 | P26: 3 | Y26: 4 | AI26: 5
A27: =IF(Y27="—","—",1) -> — | F27: =IF(Y27="—","—",F21) -> — | P27: =IF(Y27="—","—",CONCATENATE([1]ввод!E77," ","/чзу1")) -> — | Y27: — | AI27: =IF(Y27="—","—",CONCATENATE(BF28,BF29,"=",2.5,"*",[1]ввод!E83,BI31,"=")) -> — | AS27: =IF(Y27="—","",BI30)
A28: =IF(Y28="—","—",2) -> — | F28: =IF(Y28="—","—",F21) -> — | P28: =IF(Y28="—","—",CONCATENATE([1]ввод!E77," ","/чзу2")) -> — | Y28: — | AI28: =IF(Y28="—","—",CONCATENATE(BP28,BP29,"=",2.5,"*",[1]ввод!E83,BS31,"=")) -> — | AS28: =IF(Y28="—","",BS30) | BF28: Δ | BG28: √ | BH28: =R21 -> 1000 | BI28: =Y27 -> — | BP28: Δ | BQ28: √ | BR28: =R22 -> — | BS28: =Y28 -> — | CB28: Δ | CC28: √ | CD28: =R23 -> — | CE28: =Y29 -> — | CK28: Δ | CL28: √ | CM28: =AW21 -> 0 | CN28: =#REF! -> #REF!
A29: =IF(Y29="—","—",3) -> — | F29: =IF(Y29="—","—",F21) -> — | P29: =IF(Y29="—","—",CONCATENATE([1]ввод!E77," ","/чзу3")) -> — | Y29: — | AI29: =IF(Y29="—","—",CONCATENATE(CB28,CB29,"=",2.5,"*",[1]ввод!E83,CE31,"=")) -> — | AS29: =IF(Y29="—","",CE30) | BF29: P | BH29: =SQRT(BH28) -> 31.622777 | BI29: =SQRT(BI28) -> #VALUE! | BP29: P | BR29: =SQRT(BR28) -> #VALUE! | BS29: =SQRT(BS28) -> #VALUE! | CB29: P | CD29: =SQRT(CD28) -> #VALUE! | CE29: =SQRT(CE28) -> #VALUE! | CK29: P | CM29: =SQRT(CM28) -> 0 | CN29: =SQRT(CN28) -> #REF!
BH30: =PRODUCT(BH29,2.5,[1]ввод!E83) -> 39.528471 | BI30: =PRODUCT(2.5,[1]ввод!E83,BI29) -> #VALUE! | BR30: =PRODUCT(BR29,2.5,[1]ввод!E83) -> #VALUE! | BS30: =PRODUCT(2.5,[1]ввод!E83,BS29) -> #VALUE! | CD30: =PRODUCT(CD29,2.5,[1]ввод!E83) -> #VALUE! | CE30: =PRODUCT(2.5,[1]ввод!E83,CE29) -> #VALUE! | CM30: =PRODUCT(CM29,3.5,0.2) -> 0 | CN30: =PRODUCT(3.5,0.2,CN29) -> #REF!
BH31: =CONCATENATE(BG28,BH28) -> √1000 | BI31: =CONCATENATE(BG28,BI28) -> √— | BR31: =CONCATENATE(BQ28,BR28) -> √— | BS31: =CONCATENATE(BQ28,BS28) -> √— | CD31: =CONCATENATE(CC28,CD28) -> √— | CE31: =CONCATENATE(CC28,CE28) -> √— | CM31: =CONCATENATE(CL28,CM28) -> √0 | CN31: =CONCATENATE(CL28,CN28) -> #REF!
BH32: =CONCATENATE(BF28,BF29,"=",2.5,"*","Mt",BH31,"=") -> ΔP=2,5*Mt√1000= | BR32: =CONCATENATE(BP28,BP29,"=",2.5,"*","Mt",BR31,"=") -> ΔP=2,5*Mt√—= | CD32: =CONCATENATE(CB28,CB29,"=",2.5,"*","Mt",CD31,"=") -> ΔP=2,5*Mt√—= | CM32: =CONCATENATE(CK28,CK29,"=",2.5,"*","Mt",CM31,"=") -> ΔP=2,5*Mt√0=
BB33: =CONCATENATE(#REF!,#REF!,"=",3.5,"*",0.2,BB32,"=") -> #REF! | BL33: =CONCATENATE(#REF!,#REF!,"=",3.5,"*",0.2,BL32,"=") -> #REF! | BX33: =CONCATENATE(#REF!,#REF!,"=",3.5,"*",0.2,BX32,"=") -> #REF! | CG33: =CONCATENATE(#REF!,#REF!,"=",3.5,"*",0.2,CG32,"=") -> #REF!
