Workbook

Sheet Ввод
B1: ВВЕДИТЕ ДАННЫЕ !
A3: Ф.И.О. заявителя | B3: ОБЩЕСТВО С ОГРАНИЧЕННОЙ ОТВЕТСТВЕННОСТЬЮ "ТВОРЕЦ" в лице директора Артамонова Виктора Александровича, действующего на основании Устава
A4: Фамилия,инициалы | B4: Администрация Карачевского района
A5: Фамилия,инициалы2 | B5: Мамошин В.Н.
A6: Место регистрации | B6: 241519, Брянская Область, Брянский Район, Путевка Поселок, Центральная Улица, 1Д
A7: ИНН/КПП | B7: ИНН 3234026289/КПП323401001
A8: БИК
A9: Р/с
A10: Пол
A11: Тел:
A13: Адрес объекта | B13: Наружная канализация: Брянская обл., Брянский р-он, п. Путевка, ул. Строителей, ул.Рославльская
A14: Сумма | B14: 15000
A15: Номер заявки | B15: 114
A16: Дата оформления | B16: 41114
A17: Кадасровый номер уч-ка | B17: 532:28:032702:8
A18: Кадасровый номер кв-ла | B18: 532:28:032702
A20: Диспетчер | B20: Фролова Т.А.
A22: 1. ГЕОДЕЗИЧЕСКИЕ РАБОТЫ | B22: 5000
A23: 2. ЗАКАЗ СВЕДЕНИЙ ГЗК
A24: 3. КОПИРОВАНИЕ ДОКУМЕНТОВ
A25: 4. ПОСТАНОВКА НА КАДАСТ. УЧЕТ
A26: 5. РЕГИСТРАЦИОННЫЙ УЧЕТ
A27: 6. СОГЛАСОВАНИЕ ГРАНИЦ
B28: 25000

Sheet ЗАЯВКА + ПЛАТЕЖКА
A1: ООО "Аксиома"
A2: Ф.И.О. заявителя:
A3: Место регистрации:
A4: Документ:
A5: Выдан:
A6: Телефон для связи:
A8: Прошу выполнить следующую работу по принадлежащему мне объекту недвижимости,
A9: расположенному по адресу:
A12: 1. МЕЖЕВОЙ ПЛАН
A13: 2. ТЕХНИЧЕСКИЙ ПЛАН
A14: 3. АКТ ОБСЛЕДОВАНИЯ
A15: 4. ВОССТАНОВЛЕНИЕ ГРАНИЦ НА МЕСТНОСТИ
... A21: Заказчик:
C22: ФИО, подпись | H22: (Дата)
A23: Заявку принял:
C24: ФИО, подпись | H24: (Дата)
A25: При наличии независящих от исполнителя обстоятельств срок исполения может быть продлен.
A26: ООО "Аксиома"
A27: Ф.И.О. заявителя:
A28: Место регистрации:
A29: Документ:
A30: Выдан:
A31: Телефон для связи:
A33: Прошу выполнить следующую работу по принадлежащему мне объекту недвижимости,
A34: расположенному по адресу:
A37: 1. МЕЖЕВОЙ ПЛАН
A38: 2. ТЕХНИЧЕСКИЙ ПЛАН
A39: 3. АКТ ОБСЛЕДОВАНИЯ
... A46: Заказчик:
C47: ФИО, подпись | H47: (Дата)
A48: Заявку принял:
C49: ФИО, подпись | H49: (Дата)
A50: При наличии независящих от исполнителя обстоятельств срок исполения может быть продлен.

Sheet АКТ
A1: АКТ СОГЛАСОВАНИЯ МЕСТОПОЛОЖЕНИЯ ГРАНИЦЫ
A2: ЗЕМЕЛЬНОГО УЧАСТКА
A4: Кадастровый номер или обозначение земельного участка: _____________________________________ | H4: =Ввод!B17 -> 532:28:032702:8
A5: =Ввод!B13 -> Наружная канализация: Брянская обл., Брянский р-он, п. Путевка, ул. Строителей, ул.Рославльская
A7: Площадь земельного участка __________________кв.м.
A9: Местоположение границы земельного участка согласовано:
A10: Обозначение характерной точки или части границы | B10: Кадастровый номер смежного земельного участка | D10: Фамилия и инициалы правообладателя или его представителя, реквизиты документа, удостоверяющего личность | H10: Реквизиты доверенности | J10: Подпись и дата | K10: Способ и дата извещения
A16: 1 | B16: 2 | D16: 3 | H16: 4 | J16: 5 | K16: 6
D17: Трофименкова Л.Н. паспорт 15 02 522147 выдан ОВД г.Сельцо 01.03.2002г. | H17: №2162 от 12.08.2011г.
A24: Наличие разногласий при согласовании местоположения границы земельного участка:
A25: Обозначение | C25: Кадастровый | E25: Содержание возражений о местоположении границы
A26: характерной | C26: номер смежного
A27: точки или | C27: земельного
A28: части границы | C28: участка
A29: 1 | C29: 2 | E29: 3
A32: Сведения о снятии возражений о местоположении границы земельного участка:
A33: Обозначение характерной точки или части границы | B33: Кадастровый номер смежного земельного участка | D33: Фамилия и инициалы правообладателя или его представителя, реквизиты документа, удостоверяющего личность, дата снятия возражений, подпись | H33: Способ снятия возражений о местоположении границы (изменение местоположения границы, рассмотрение земельного спора в суде, третейском суде)
A40: 1 | B40: 2 | D40: 3 | H40: 4
A43: Кадастровый инженер: | I43: ФРОЛОВА Т.А.
D44: МП | G44: подпись | I44: фамилия, инициалы

Sheet ОБЪЯВЛ
A1: ДЛЯ ОПУБЛИКОВАНИЯ
A2: ИЗВЕЩЕНИЕ О ПРОВЕДЕНИИ СОБРАНИЯ О СОГЛАСОВАНИИ МЕСТОПОЛОЖЕНИЯ
A3: ГРАНИЦЫ ЗЕМЕЛЬНОГО УЧАСТКА
A4: Кадастровым инженером | D4: ФРОЛОВОЙ ТАТЬЯНОЙ АНАТОЛЬЕВНОЙ,
D5: фамилия, имя, отчество, почтовый адрес.
A6: действующим на основании квалификационного аттестата №32-10-21; г.Брянск, ул.Гончарова, д.88; t_frolova15@mail.ru; тел:30-30-05;
A7: адрес электронной почты, контактный телефон, № квалификационного аттестата
A8: в отношении земельного участка с кадастровым № | G8: =Ввод!B17 -> 532:28:032702:8
A9: расположенного | C9: =Ввод!B13 -> Наружная канализация: Брянская обл., Брянский р-он, п. Путевка, ул. Строителей, ул.Рославльская
C10: (адрес или местоположение земельного участка)
A11: выполняются кадастровые работы по уточнению местоположения границы и (или) площади земельного участка
A12: Заказчиком кадастровых работ является | E12: =Ввод!B3 -> ОБЩЕСТВО С ОГРАНИЧЕННОЙ ОТВЕТСТВЕННОСТЬЮ "ТВОРЕЦ" в лице директора Артамонова Виктора Александровича, действующего на основании Устава
A13: =Ввод!B6 -> 241519, Брянская Область, Брянский Район, Путевка Поселок, Центральная Улица, 1Д | H13: =Ввод!B11 -> 0
A14: (фамилия, инициалы физ. лица или наименование юрид. лица, его почтовый адрес и контактный телефон)
A15: Собрание заинтересованных лиц по поводу согласования местоположения границы
A16: состоится по адресу: | C16: г.Брянск, ул.Красноармейская, 156а; 3 этаж; тел:30-30-05
A17: < > ______________________ 2011г. в 10 часов 00 минут.
A18: С проектом межевого плана земельного участка можно ознакомиться по адресу:
A19: г.Брянск, ул.Красноармейская, 156а; 3 этаж; тел:30-30-05
A20: Возражения по проекту межевого плана и требования о проведении
A21: согласования местоположения границ земельных участков на местности принимаются
A22: с "_______" ________________________ по "_______" ________________________
A23: по адресу: | C23: г.Брянск, ул.Красноармейская, 156а; 3 этаж; тел:30-30-05
A24: Смежные земельные участки, с правообладателями которых требуется согласовать местоположение
A25: границы: | B25: все смежные земельные участки, | F25: расположенные в квартале
B26: № | C26: =Ввод!B18 -> 532:28:032702 | E26: и граничащие с участком
B27: =Ввод!B13 -> Наружная канализация: Брянская обл., Брянский р-он, п. Путевка, ул. Строителей, ул.Рославльская
A28: Вызывается представитель для согласования земель общего пользования в
A29: границах кадастрового квартала № | F29: =Ввод!B18 -> 532:28:032702
A30: (кадастровые номера, адреса или местоположение земельных участков)
A31: При проведении согласования местоположения границ при себе необходимо иметь документ,
A32: удостоверяющий личность, а также документы о правах на земельный участок
A35: ПО Брянской обл: ул.Красноармейская, 156; 3 этаж; каб.33. "Деснянская правда"
A38: ПО г.Брянску: ул.Трудовая, 1а; "Брянский рабочий"

Sheet тех.задание
G2: Приложение № 1
G3: к договору №_____ от «__» ______ 20__ г.
G5: УТВЕРЖДЕНО:
G6: (ЗАКАЗЧИК)
G8: _______________ | I8: =Ввод!B4 -> Администрация Карачевского района
G9: м.п.
G10: «_______»__________________2011г.
A13: Техническое задание на проведение кадастровых работ
A15: № | B15: Наименование работ | H15: Примечание
A16: 1 | B16: Проведение подготовительных работ по сбору информации о земельном участке, в том числе получение: - сведений государственного кадастра недвижимости на земельный участок и прилегающую территорию; - сведения Опорной геодезической сети г.Брянска; - картографических материалов; - иных материалов и документов, содержащих необходимую информацию для составления Межевого плана.
A17: 2 | B17: Обследование земельного участка и его частей (изучение фактической ситуации в месте нахождения земельного участка) и составление абрисов узловых точек границ земельного участка.
A18: 3 | B18: Уведомление лиц, права которых могут быть затронуты при проведении кадастровых работ
A19: 4 | B19: Проложение теодольного хода повышенной точности (1:5000) и определение местоположения границ земельного участка, в том числе ограниченных в использовании частей земельного участка путем двойного координирования характерных точек границ земельного участка. | H19: инструментальным методом выполнение работ по договору субподряда №______от_____________
A20: 5 | B20: Вычисление координат характерных точек границ и площадей земельного участка и его частей | H20: выполнение работ по договору субподряда №______от_____________
A21: 6 | B21: Согласование местоположения границ земельного участка | H21: с установлением границ на местности
A22: 7 | B22: Изготовление Межевого плана и приложения к нему
A23: 8 | B23: Осуществление производственного контроля
A27: Составил _______________________________________ кадастровый инженер Фролова Т.А.

Sheet дог.подряда
A1: ДОГОВОР ПОДРЯДА № 97
A2: на производство кадастровых работ
A3: г. Брянск "06" декабря 2012г.
A4: ООО «Аксиома», в лице директора Фролова Сергея Александровича, действующего на основании Устава, именуемое в дальнейшем "Подрядчик", с одной стороны и
A6: Муниципальное учреждение Мичуринская сельская администрация Брянского района Брянской области в лице главы поселения Хохловой Людмилы Павловны, действующей на основании рапоряжения № 35-РК от 01.08.2012 г. "О принятии полномочий главы поселения"
A7: именуемый(ая) в дальнейшем "Заказчик", с другой стороны, далее при совместном упоминании "Стороны", заключили настоящий Договор о нижеследующем:
A9: 1. ПРЕДМЕТ ДОГОВОРА
A10: 1.1 Заказчик поручает, а Подрядчик принимает на себя следующие обязательства: выполнение кадастровых работ согласно Федеральному закону от 24 июля 2007 г. № 221-ФЗ "О государственном кадастре недвижимости" с подготовкой отчетной документации - Межевой план земельного участка, расположенного по адресу
A11: Брянская обл., Брянский р-н, д. Меркульево, ул. Воинская, д. 2
A12: (далее по тексту "Объект капитального строительства").
A13: 1.2 Объем, содержание работ, указанных п.1.1, и другие предъявляемые к ним требования, определяются нормативными правовыми актами, регламентирующими деятельность в сфере кадастровых отношений.
A14: 2. СТОИМОСТЬ РАБОТ И ПОРЯДОК РАСЧЕТОВ.
A15: 2.1 Заказчик и Подрядчик договорились, что общая стоимость работ по Договору
A16: составляет: | C16: 3000 | D16: /Три тысячи рублей 00 копеек/
A17: 2.2 Оплата выполненных работ производится в момент передачи выполненных работ заказчику. 2.3. Общая стоимость работ по настоящему Договору может быть пересмотрена по согласованию Сторон при изменении объемов работ, указанных в п. 1.1. 2.4. В случае оплаты работ позднее срока, указанного в п.2.2, Подрядчик оставляет за собой право не приступать к выполнению обязательств по Договору до выполнения Заказчиком его обязательств по оплате. 3. ОБЯЗАННОСТИ СТОРОН. 3.1 Подрядчик обязуется: – выполнить работы, указанные в п.1.1 настоящего Договора, с надлежащим качеством в соответствии с требованиями Федерального закона от 24 июля 2007 г. № 221-ФЗ "О государственном кадастре недвижимости" и иными нормативно-техническими требованиями к выполнению кадастровых работ; – согласовать с Заказчиком дату и время выезда специалистов; – организовать и произвести выезд специалистов Подрядчика для выполнения работ, указанных в пункте 1.1 настоящего договора, на его транспорте в согласованное с Заказчиком время; – подготовить и передать Заказчику Межевой план, Технический план, Акт обследования, Топографическая съемка местности (нужное подчеркнуть); – устранить недостатки в отчетной документации, допущенные по вине Подрядчика, в случае их обнаружения органом кадастрового учета. Если в процессе выполнения работ выясняется неизбежность получения отрицательного результата или нецелесообразность дальнейшего проведения работ, Подрядчик обязан приостановить их, поставив в известность Заказчика. В этом случае Стороны обязуются в течение 5 (пяти) дней рассмотреть вопрос о целесообразности продолжения работ и оформить свое решение дополнительным соглашением к настоящему Договору, согласованным и подписанным обеими Сторонами.
A18: 3.2 Заказчик обязуется: – предоставить все документы и сведения, необходимые для производства работ Подрядчиком– оплатить Подрядчику работы, предусмотренные настоящим Договором, в срок и в порядке, указанном в п. 2 договора;
A19: – сообщить Подрядчику всю информацию, которая может повлиять на возможность выполнения в полном объеме своих обязательств, такую как: наличие спора с заинтересованными лицами, отсутствие первичных документов (разрешение на строительство, акт ввода в эксплуатацию и т.п.), нарушение красных линий, линии и проекта застройки и т.п.; – обеспечить свободный доступ ; – в назначенный день присутствовать на объекте капитального строительства и указать Подрядчику границы объекта капитального строительства, зарегистрированные сервитуты, обременения и место расположения инженерных коммуникаций (при наличии); – в установленном законом порядке решать споры, возникшие в процессе выполнения работ; – принять выполненную работу;
A20: 4. СРОКИ ВЫПОЛНЕНИЯ РАБОТ. 4.1 Сроки выполнения работ: начало – с момента оплаты работ по договору и подачи заявления на выполнение работ; окончание – не позднее 60 (шестидесяти) рабочих дней с момента начала работ по Договору. 4.2 Время, затраченное Заказчиком на сбор необходимых документов и разрешение споров по границам участка (при наличии) в срок выполнения обязательств Подрядчиком (п. 4.1) не входит. 4.3 Срок выполнения работ может корректироваться в случае изменения технических требований к проведению кадастровых работ и оформлению Технического плана. 5. СРОК ДЕЙСТВИЯ ДОГОВОРА 5.1 Настоящий Договор вступает в силу с момента его подписания и действует до полного исполнения Сторонами взятых на себя обязательств. 6. ПОРЯДОК СДАЧИ И ПРИЕМКИ РАБОТ. 6.1 Работа считается выполненной Подрядчиком после передачи Заказчику Технического плана объекта капитального учета. 6.2 Заказчик обязуется принять работу или дать мотивированный отказ в течение 5 (пяти) календарных дней со дня получения Акта сдачи-приемки выполненных работ. 6.3 Работа считается завершенной со дня подписания Акта сдачи-приемки выполненных работ. 7. ОТВЕТСТВЕННОСТЬ СТОРОН. 7.1 При обнаружении недостатков в выполненных работах по вине Подрядчика, он устраняет недостатки за свой счет в течении 14 (четырнадцати) рабочих дней после возврата отчетной документации. 7.2 В случае невыполнения или ненадлежащего выполнения Сторонами принятых на себя обязательств по настоящему Договору, Стороны несут ответственность в порядке, установленном действующим законодательством РФ.
A21: 8. РАЗРЕШЕНИЕ СПОРОВ. 8.1 Споры и разногласия, вытекающие из Договора или в связи с ним, по возможности будут решаться путем переговоров. 8.2 Неурегулированные Сторонами разногласия по исполнению настоящего Договора подлежат передаче на рассмотрение в Суд в порядке, установленном действующим законодательством РФ. 8.3 До передачи спора в Суд должна быть заявлена официальная претензия, срок рассмотрения которой не может превышать 10 (десяти) дней после получения.
A22: 9. ПРОЧИЕ УСЛОВИЯ. 9.1 В случаях, если в постановке на государственный кадастровый учет (или в государственном кадастровом учете изменений объекта недвижимости) будет отказано, или данные действия будут приостановлены органом кадастрового учета по независящим от Подрядчика причинам, Подрядчик не несет ответственности и оплата за выполненную работу возврату не подлежит. 9.2 Ни одна из Сторон не будет нести ответственность за полное или частичное неисполнение условий настоящего Договора, если неисполнение будет являться следствием обстоятельств непреодолимой силы, возникших после заключения настоящего Договора. Если любое из таких обстоятельств непосредственно повлияет на исполнение Сторонами своих обязательств, в срок, установленный настоящим Договором, то этот срок соразмерно отодвигается на время действия соответствующего обстоятельства. 9.3 Во всем, непредусмотренном настоящим Договором, Стороны руководствуются действующим законодательством РФ. 9.4 Настоящий Договор составлен в двух экземплярах, имеющих одинаковую юридическую силу, по одному экземпляру для каждой из Сторон. 9.5 Подписывая настоящий договор, Заказчик подтверждает, что он ознакомлен со всеми пунктами настоящего Договора, осознает и принимает все его положения, на все вопросы получил удовлетворяющие его разъяснения. 10. РЕКВИЗИТЫ И ПОДПИСИ СТОРОН
A24: Подрядчик | F24: Заказчик
A25: ООО «АКСИОМА» | F25: МУУЧ Мичуринская сельская администрация Брянского района Брянской области
F26: ИНН 3245002392
A27: ИНН 3250528776 | F27: КПП 324501001
A28: КПП 325001001
A29: Адрес: 241037, г.Брянск, ул. Красноармейская, д.156а | F29: Адрес: | G29: 241524, Брянская Область, Брянский Район, Мичуринский Поселок, Выставочная Улица, 4
A30: Директор ООО "АКСИОМА" | F30: Глава поселения
A31: Фролов С.А. | F31: Хохлова Л. П.
A33: _________________________Фролов С.А. | F33: ________________________ | I33: Хохлова Л. П.
A34: подпись | F34: подпись
A35: МП | G35: МП

Sheet АКТ выполн.работ
F1: Приложение № 1
F2: к договору № _____ от «____» ________ 2012г
A4: АКТ сдачи-приемки выполненных работ по Договору № _____ от «___» _____________ 2012 г.
A6: г. Брянск «_____» __________ 2012г
A8: ООО «Аксиома», в лице директора Фролова Сергея Александровича, действующего на основании Устава, именуемое в дальнейшем "Подрядчик", с одной стороны и
A9: =Ввод!B3 -> ОБЩЕСТВО С ОГРАНИЧЕННОЙ ОТВЕТСТВЕННОСТЬЮ "ТВОРЕЦ" в лице директора Артамонова Виктора Александровича, действующего на основании Устава
A10: именуемый(ая) в дальнейшем "Заказчик", с другой стороны, далее при совместном упоминании "Стороны", заключили Акт о нижеследующем:
A11: 1. По исполнению Договора № ____ от «________» ____________ 2012г. (далее по тексту – «Договор»), Подрядчиком выполнены работы: кадастровые работы по изготовлению установленной формы межевого плана земельного участка расположенного по адресу:
A12: =Ввод!B13 -> Наружная канализация: Брянская обл., Брянский р-он, п. Путевка, ул. Строителей, ул.Рославльская
A13: на общую сумму | C13: =Ввод!B28 -> 25000 | D13: (Пять тысяч рублей 00 копеек)
A14: 2. Заказчик претензий к Подрядчику не имеет.
A16: 3. Настоящий Акт является неотъемлемой частью Договора № _____ от «______» _____________ 2012г.
A17: 4. Настоящий Акт составлен в двух экземплярах, имеющих равную юридическую силу, по одному для каждой из сторон.
A19: Подрядчик | F19: Заказчик
A20: ООО «АКСИОМА» | F20: =Ввод!B4 -> Администрация Карачевского района
F21: ИНН 3234049582/КПП 323401001
A22: ИНН 3250528776 | F22: БИК 044525700
A23: КПП 325001001 | F23: р/с 40702810400001428222
A24: Адрес: 241037, г.Брянск, ул. Красноармейская, д.156а | F24: Адрес: | G24: =Ввод!B6 -> 241519, Брянская Область, Брянский Район, Путевка Поселок, Центральная Улица, 1Д
A26: Директор ООО "АКСИОМА" | F26: Директор | H26: =Ввод!B4 -> Администрация Карачевского района
A27: Фролов С.А. | F27: =Ввод!B5 -> Мамошин В.Н.
A29: _________________________Фролов С.А. | F29: ________________________ | I29: =Ввод!B5 -> Мамошин В.Н.
A30: подпись | F30: подпись
A31: МП | G31: МП

Sheet субподряд
A1: ДОГОВОР СУБПОДРЯДА № ______
A3: г. Брянск "___" ___________ 2011 г.
A5: Кадастровый инженер Фролова Татьяна Анатольевна, квалификационный аттестат №32-10-21, именуемая в дальнейшем "Подрядчик" с одной стороны и Общество с ограниченной ответственностью "Межевой центр", в лице генерального директора Пинчука Леонида Леонидовича, действующего на основании Устава и лицензий № ЮЖГ-01918Г ОТ 05.09.2008г., выданной Южной территориальной инспекцией государственного геодезического надзора, именуемое в дальнейшем "Субподрядчик" с другой стороны, далее при совместном упоминании "Стороны", заключили настоящий Договор о нижеследующем: 1. ПРЕДМЕТ ДОГОВОРА 1.1 Подрядчик поручает, а Субподрядчик принимает на себя следующие обязательства: выполнение работ по определению координат характерных точек границ земельных участков, осуществляемых в рамках кадастровой деятельности, подлежащей лицензированию, с подготовкой отчетной документации (определение координат точек границ земельного участка) на площадь по фактически указанным в натуре границам. Земельный участок расположен по адресу:
A6: =Ввод!B13 -> Наружная канализация: Брянская обл., Брянский р-он, п. Путевка, ул. Строителей, ул.Рославльская
A7: (далее по тексту "Участок").
A8: 1.2 Объем, содержание работ, указанных п.1.1, и другие предъявляемые к ним требования, определяются нормативными правовыми актами, регламентирующими деятельность в сфере кадастровых отношений. 2. СТОИМОСТЬ РАБОТ И ПОРЯДОК РАСЧЕТОВ. 2.1 Подрядчик и Субподрядчик договорились, что общая стоимость работ по Договору составляет: 500 (пятьсот) рублей. 2.2 Оплата по настоящему Договору производится за наличный расчет в размере 100 % от общей стоимости работ. 3. ОБЯЗАННОСТИ СТОРОН. 3.1 Субподрядчик обязуется: – выполнить работы, указанные в п.1.1 настоящего Договора, с надлежащим качеством в соответствии с требованиями Федерального закона от 24 июля 2007 г. № 221-ФЗ "О государственном кадастре недвижимости" и иными нормативно-техническими требованиями к выполнению кадастровых работ; – согласовать с Подрядчиком дату и время выезда специалистов на участок; – организовать и произвести выезд специалистов Субподрядчика для выполнения работ, указанных в пункте 1.1 настоящего договора, на его транспорте в согласованное с Подрядчиком время; – подготовить и передать Подрядчику отчетную документацию; – устранить недостатки в отчетной документации, допущенные по вине Субподрядчик, в случае их обнаружения органом кадастрового учета. Если в процессе выполнения работ выясняется неизбежность получения отрицательного результата или нецелесообразность дальнейшего проведения работ, Субподрядчик обязан приостановить их, поставив в известность Подрядчика. В этом случае Стороны обязуются в течение 5 (пяти) дней рассмотреть вопрос о целесообразности продолжения работ и оформить свое решение дополнительным соглашением к настоящему Договору, согласованным и подписанным обеими Сторонами.
A9: 3.2 Подрядчик обязуется: – предоставить все документы и сведения, необходимые для производства работ Субподрядчиком (перечень необходимых документов – приложение № 1 к настоящему Договору); – оплатить Субподрядчику работы, предусмотренные настоящим Договором, в срок и в порядке, указанном в п. 2 договора; – сообщить Субподрядчику всю информацию, которая может повлиять на возможность выполнения в полном объеме своих обязательств, такую как: наличие спора по границам участка с заинтересованными лицами, отсутствие первичных документов на участок (генеральный план застройки, отвод, документов по переводу участка из одной категории в другую и т.п.), самозахват земли (перенос забора в сторону увеличения (уменьшения) площади участка), нарушение красных линий, линии и проекта застройки и т.п.; – обеспечить свободный доступ на участок; – в назначенный день присутствовать на участке и указать Субподрядчику границы участка, зарегистрированные сервитуты, обременения и место расположения инженерных коммуникаций (при наличии); – принять выполненную работу; – не совершать действий, которые могут отрицательно повлиять на выполнение своих обязательств Субподрядчиком или причинить вред его имени и деловой репутации.
A12: 4. СРОКИ ВЫПОЛНЕНИЯ РАБОТ. 4.1 Сроки выполнения работ: начало – с момента оплаты работ по договору и подачи заявления на выполнение работ; окончание – не позднее 5 (пяти) рабочих дней с момента начала работ по Договору. 5. СРОК ДЕЙСТВИЯ ДОГОВОРА 5.1 Настоящий Договор вступает в силу с момента его подписания и действует до полного исполнения Сторонами взятых на себя обязательств. 6. ПОРЯДОК СДАЧИ И ПРИЕМКИ РАБОТ. 6.1 Работа считается выполненной Субподрядчиком после передачи Подрядчику отчетной документации. 6.2 Подрядчик обязуется принять работу или дать мотивированный отказ в течение 5 (пяти) календарных дней со дня получения Акта сдачи-приемки выполненных работ. 6.3 Работа считается завершенной со дня подписания Акта сдачи-приемки выполненных работ. 7. ОТВЕТСТВЕННОСТЬ СТОРОН. 7.1 При обнаружении недостатков в выполненных работах по вине Подрядчика, он устраняет недостатки за свой счет в течении 14 (четырнадцати) рабочих дней после возврата отчетной документации. 7.2 В случае невыполнения или ненадлежащего выполнения Сторонами принятых на себя обязательств по настоящему Договору, Стороны несут ответственность в порядке, установленном действующим законодательством РФ. 8. РАЗРЕШЕНИЕ СПОРОВ. 8.1 Споры и разногласия, вытекающие из Договора или в связи с ним, по возможности будут решаться путем переговоров. 8.2 Неурегулированные Сторонами разногласия по исполнению настоящего Договора подлежат передаче на рассмотрение в Суд в порядке, установленном действующим законодательством РФ. 9. РЕКВИЗИТЫ И ПОДПИСИ СТОРОН
A13: Подрядчик Субподрядчик
A15: Кадастровый инженер | G15: ООО «Межевой центр»
A16: ИП Фролова Т.А. | G16: ИНН 3250507261
A17: ИНН 324500040930 | G17: КПП 325001001
A18: ОГРН 311325603100028 | G18: ОГРН 1083254010950
A19: Адрес: 241014, г.Брянск, ул.Гончарова, 88 | G19: Адрес: 241007, г.Брянск, ул.Дуки, 62а
A22: Кадастровый инженер | G22: Директор ООО «Межевой центр»
A23: Фролова Т.А. | G23: Пинчук Л.Л
A25: ______________________(Фролова Т.А.) | G25: ____________________(Пинчук Л.Л.)
A26: подпись | G26: подпись
A52: Акт приема-передачи выполненных работ по договору субподряда №_________________ по выполнению работ, осуществляемых в рамках кадастровой деятельности, подлежащей лицензированию
A54: г.Брянск "___" ___________ 2011 г.
A56: Кадастровый инженер Фролова Татьяна Анатольевна, квалификационный аттестат №32-10-21, именуемая в дальнейшем "Подрядчик" с одной стороны и Общество с ограниченной ответственностью "Межевой центр", в лице генерального директора Пинчука Леонида Леонидовича, действующего на основании Устава и лицензий, ЮЖГ-01918Г ОТ 05.09.2008г., выданной Южной территориальной инспекцией государственного геодезического надзора именуемое в дальнейшем "Субподрядчик" с другой стороны, далее при совместном упоминании "Стороны", составили настоящий Акт приема-передачи выполненных работ по договору субподряда о нижеследующем: 1. Субподрядчик передал, а Подрядчик принял подготовленную отчетную документации (определение координат точек границ земельного участка) на земельный участок, расположенный по адресу:
A57: =Ввод!B13 -> Наружная канализация: Брянская обл., Брянский р-он, п. Путевка, ул. Строителей, ул.Рославльская
A58: 2. Настоящим актом Стороны подтверждают, что работы предусмотренные договором субподряда №______________ выполнены Субподрядчиком с надлежащим качеством и в установленный срок. Стоимость выполненных работ составляет 500рублей. 3. Настоящий акт составлен в двух подлинных экземплярах по одному для каждой из Сторон.
A60: Подрядчик Субподрядчик
A62: Кадастровый инженер | G62: ООО «Межевой центр»
A63: ИП Фролова Т.А. | G63: ИНН 3250507261
A64: ИНН 324500040930 | G64: КПП 325001001
A65: ОГРН 311325603100028 | G65: ОГРН 1083254010950
A66: Адрес: 241014, г.Брянск, ул.Гончарова, 88 | G66: Адрес: 241007, г.Брянск, ул.Дуки, 62а
A69: Кадастровый инженер | G69: Директор ООО «Межевой центр»
A70: Фролова Т.А. | G70: Пинчук Л.Л
A72: ______________________(Фролова Т.А.) | G72: ____________________(Пинчук Л.Л.)
A73: подпись | G73: подпись

Sheet Лист1
A3: ООО "Аксиома"
A4: Ф.И.О. заявителя:
A5: Место регистрации:
A6: Документ: | C6: ПАСПОРТ серия №
A7: Выдан:
A8: Телефон для связи:
A10: Прошу выполнить следующую работу по принадлежащему мне объекту недвижимости,
A11: расположенному по адресу:
A14: ДОГОВОР ПОДРЯДА №_________
A16: 1. МЕЖЕВОЙ ПЛАН
A17: 2. ТЕХНИЧЕСКИЙ ПЛАН (здание, помещение, сооружение, объект незавершенного стр-ва)
A18: 3. АКТ ОБСЛЕДОВАНИЯ
A19: 4. ВОССТАНОВЛЕНИЕ ГРАНИЦ НА МЕСТНОСТИ
A20: 5. ТОПОГРАФИЧЕСКАЯ СЪЕМКА
A21: 6. ОФОРМЛЕНИЕ ДОКУМЕНТОВ ПО ДОВЕРЕННОСТИ
A23: С суммой предварительной оплаты ______________руб. согласен, в случае превышения фактической стоимости работ над внесенной суммой , доплату гарантирую.
A25: Заказчик:
C26: ФИО, подпись | H26: (Дата)
A27: Заявку принял:
C28: ФИО, подпись | H28: (Дата)
A33: КАДАСТРОВЫЙ ИНЖЕНЕР
A36: ПРИНЯТО В РАБОТУ:
A39: ДАТА ВЫДАЧИ:
D42: ДОГОВОР ПОДРЯДА №_________
A43: КАДАСТРОВЫЕ РАБОТЫ, Заказчик
A45: Адрес:
A47: Сумма оплаты за данную работу составляет______________руб.
A48: Документы Вы можете получить в офисе ООО "АКСИОМА". Документы выдаются владельцам при наличии паспорта и квитанции.
A49: По вопросам выполнения работ обращатся по адресу: 241037, г.Брянск, ул.Красноармейская, 156а. 3ЭТАЖ
A50: тел: 41-12-75, 30-30-05
A51: Обязательно сохранить для предъявления при получении документов
